BEGIN:VCALENDAR
VERSION:2.0
PRODID:-//wp-events-plugin.com//5.99912//EN
TZID:Europe/Berlin
X-WR-TIMEZONE:Europe/Berlin
BEGIN:VEVENT
UID:0-191@erpfingen.albverein.eu
DTSTART;TZID=Europe/Berlin:20261001T000000
DTEND;TZID=Europe/Berlin:20261031T000000
DTSTAMP:20260206T175354Z
URL:https://erpfingen.albverein.eu/events/drachenfest-auf-einoesch-3/
SUMMARY:Drachenfest auf Einösch
DESCRIPTION:im Oktober\, genauer Termin wird noch bekannt gegeben!
END:VEVENT
BEGIN:VTIMEZONE
TZID:Europe/Berlin
X-LIC-LOCATION:Europe/Berlin
BEGIN:DAYLIGHT
DTSTART:20260329T030000
TZOFFSETFROM:+0100
TZOFFSETTO:+0200
TZNAME:CEST
END:DAYLIGHT
BEGIN:STANDARD
DTSTART:20261025T020000
TZOFFSETFROM:+0200
TZOFFSETTO:+0100
TZNAME:CET
END:STANDARD
END:VTIMEZONE
END:VCALENDAR