BEGIN:VCALENDAR
VERSION:2.0
PRODID:-//wp-events-plugin.com//5.99912//EN
TZID:Europe/Berlin
X-WR-TIMEZONE:Europe/Berlin
BEGIN:VEVENT
UID:0-199@erpfingen.albverein.eu
DTSTART;TZID=Europe/Berlin;VALUE=DATE:20261229
DTEND;TZID=Europe/Berlin;VALUE=DATE:20261230
DTSTAMP:20260412T191104Z
URL:https://erpfingen.albverein.eu/events/test-experimenta2-keine-veransta
 ltung/
SUMMARY:TEST Experimenta2 (keine Veranstaltung)
DESCRIPTION:Wissen erleben in der experimenta Heilbronn\n\nWir laden Jung u
 nd Alt ein\, in Deutschlands größtem Science Center\nSpannendes aus Wiss
 enschaft und Technik sowie Faszinierendes\naus der Alltagswelt zu entdecke
 n. An 275 Mitmachstationen\, in der\nAusstellung oder in der Sonderschau 
 „KI\, was geht?“ werden\nNaturwissenschaft und Technik für alle erleb
 bar\n\nKommt mit!\nMeldet Euch jetzt an unter\n.....\noder über den QR-Co
 de...
END:VEVENT
BEGIN:VTIMEZONE
TZID:Europe/Berlin
X-LIC-LOCATION:Europe/Berlin
BEGIN:STANDARD
DTSTART:20261025T020000
TZOFFSETFROM:+0200
TZOFFSETTO:+0100
TZNAME:CET
END:STANDARD
END:VTIMEZONE
END:VCALENDAR